BEGIN:VCALENDAR
VERSION:2.0
PRODID:-//Volksbühne Michendorf - ECPv6.15.20//NONSGML v1.0//EN
CALSCALE:GREGORIAN
METHOD:PUBLISH
X-WR-CALNAME:Volksbühne Michendorf
X-ORIGINAL-URL:https://xn--volksbhnemichendorf-bbc.de
X-WR-CALDESC:Veranstaltungen für Volksbühne Michendorf
REFRESH-INTERVAL;VALUE=DURATION:PT1H
X-Robots-Tag:noindex
X-PUBLISHED-TTL:PT1H
BEGIN:VTIMEZONE
TZID:Europe/Berlin
BEGIN:DAYLIGHT
TZOFFSETFROM:+0100
TZOFFSETTO:+0200
TZNAME:CEST
DTSTART:20250330T010000
END:DAYLIGHT
BEGIN:STANDARD
TZOFFSETFROM:+0200
TZOFFSETTO:+0100
TZNAME:CET
DTSTART:20251026T010000
END:STANDARD
BEGIN:DAYLIGHT
TZOFFSETFROM:+0100
TZOFFSETTO:+0200
TZNAME:CEST
DTSTART:20260329T010000
END:DAYLIGHT
BEGIN:STANDARD
TZOFFSETFROM:+0200
TZOFFSETTO:+0100
TZNAME:CET
DTSTART:20261025T010000
END:STANDARD
BEGIN:DAYLIGHT
TZOFFSETFROM:+0100
TZOFFSETTO:+0200
TZNAME:CEST
DTSTART:20270328T010000
END:DAYLIGHT
BEGIN:STANDARD
TZOFFSETFROM:+0200
TZOFFSETTO:+0100
TZNAME:CET
DTSTART:20271031T010000
END:STANDARD
END:VTIMEZONE
BEGIN:VEVENT
DTSTART;TZID=Europe/Berlin:20260508T193000
DTEND;TZID=Europe/Berlin:20260508T211500
DTSTAMP:20260419T231355
CREATED:20260410T070403Z
LAST-MODIFIED:20260410T070448Z
UID:10000159-1778268600-1778274900@xn--volksbhnemichendorf-bbc.de
SUMMARY:Die Tür nebenan
DESCRIPTION:Sie ist Psychologin\, die eigentlich selbst Unterstützung bräuchte. Er verkauft Joghurt und dröhnt sich gerne mit klassischer Musik zu. \nSie wohnen auf demselben Stockwerk – und hassen sich inbrünstig. \nJede flüchtige Begegnung artet in eine beherzte Diskussion voller Anschuldigungen und Unterstellungen aus\, bei der auch schon mal die Türen knallen. Doch wie all die anderen einsamen Seelen der Stadt machen sich auch diese beiden heimlich im Internet auf die Suche nach der Liebe. Sie oder er sollte auf jeden Fall das Gegenteil von diesem bekloppten Nachbarn sein\, so viel ist sicher!
URL:https://xn--volksbhnemichendorf-bbc.de/event/die-tuer-nebenan/2026-05-08/
LOCATION:Volksbühne Michendorf\, Potsdamer Straße 42\, Michendorf\, 14552\, Deutschland
CATEGORIES:Abendvorstellungen
ATTACH;FMTTYPE=image/jpeg:https://xn--volksbhnemichendorf-bbc.de/wp-content/uploads/2025/10/Facebook_Tuer-nebenan-scaled.jpg
ORGANIZER;CN="Volksb%C3%BChne Michendorf":MAILTO:direktion@volksbuehnemichendorf.de
GEO:52.3189246;13.0336991
X-APPLE-STRUCTURED-LOCATION;VALUE=URI;X-ADDRESS=Volksbühne Michendorf Potsdamer Straße 42 Michendorf 14552 Deutschland;X-APPLE-RADIUS=500;X-TITLE=Potsdamer Straße 42:geo:13.0336991,52.3189246
END:VEVENT
BEGIN:VEVENT
DTSTART;TZID=Europe/Berlin:20260510T170000
DTEND;TZID=Europe/Berlin:20260510T190000
DTSTAMP:20260419T231355
CREATED:20260410T065740Z
LAST-MODIFIED:20260410T065740Z
UID:10000158-1778432400-1778439600@xn--volksbhnemichendorf-bbc.de
SUMMARY:Wer andern eine Grube gräbt....
DESCRIPTION:….. ist längst verheiratet! \nLesung mit Alexander G. Schäfer \n  \n„Die Ehe ist der Versuch\, zu zweit mit Problemen fertig zu werden\, die man alleine nie gehabt hätte.“ Woody Allen \nEs gibt viele Gründe\, neben der Liebe und Zuneigung\, die für eine Heirat sprechen. Aufgeräumte Wohnung\, immer frische Wäsche\, Essen auf dem Tisch und und und… \nOb diese Ehe dann auch glücklich ist ????? Da kann man nur Clint Eastwood zitieren\, der meinte: „Es gibt nur einen Weg\, eine glückliche Ehe zu führen\, und sobald ich erfahre\, welcher das ist\, werde ich erneut heiraten.“
URL:https://xn--volksbhnemichendorf-bbc.de/event/wer-andern-eine-grube-graebt/
LOCATION:Volksbühne Michendorf\, Potsdamer Straße 42\, Michendorf\, 14552\, Deutschland
CATEGORIES:Lesung
ATTACH;FMTTYPE=image/jpeg:https://xn--volksbhnemichendorf-bbc.de/wp-content/uploads/2025/10/Facebook_Grube-scaled.jpg
ORGANIZER;CN="Volksb%C3%BChne Michendorf":MAILTO:direktion@volksbuehnemichendorf.de
GEO:52.3189246;13.0336991
X-APPLE-STRUCTURED-LOCATION;VALUE=URI;X-ADDRESS=Volksbühne Michendorf Potsdamer Straße 42 Michendorf 14552 Deutschland;X-APPLE-RADIUS=500;X-TITLE=Potsdamer Straße 42:geo:13.0336991,52.3189246
END:VEVENT
BEGIN:VEVENT
DTSTART;TZID=Europe/Berlin:20260515T193000
DTEND;TZID=Europe/Berlin:20260515T211500
DTSTAMP:20260419T231355
CREATED:20260410T070403Z
LAST-MODIFIED:20260410T070448Z
UID:10000160-1778873400-1778879700@xn--volksbhnemichendorf-bbc.de
SUMMARY:Die Tür nebenan
DESCRIPTION:Sie ist Psychologin\, die eigentlich selbst Unterstützung bräuchte. Er verkauft Joghurt und dröhnt sich gerne mit klassischer Musik zu. \nSie wohnen auf demselben Stockwerk – und hassen sich inbrünstig. \nJede flüchtige Begegnung artet in eine beherzte Diskussion voller Anschuldigungen und Unterstellungen aus\, bei der auch schon mal die Türen knallen. Doch wie all die anderen einsamen Seelen der Stadt machen sich auch diese beiden heimlich im Internet auf die Suche nach der Liebe. Sie oder er sollte auf jeden Fall das Gegenteil von diesem bekloppten Nachbarn sein\, so viel ist sicher!
URL:https://xn--volksbhnemichendorf-bbc.de/event/die-tuer-nebenan/2026-05-15/
LOCATION:Volksbühne Michendorf\, Potsdamer Straße 42\, Michendorf\, 14552\, Deutschland
CATEGORIES:Abendvorstellungen
ATTACH;FMTTYPE=image/jpeg:https://xn--volksbhnemichendorf-bbc.de/wp-content/uploads/2025/10/Facebook_Tuer-nebenan-scaled.jpg
ORGANIZER;CN="Volksb%C3%BChne Michendorf":MAILTO:direktion@volksbuehnemichendorf.de
GEO:52.3189246;13.0336991
X-APPLE-STRUCTURED-LOCATION;VALUE=URI;X-ADDRESS=Volksbühne Michendorf Potsdamer Straße 42 Michendorf 14552 Deutschland;X-APPLE-RADIUS=500;X-TITLE=Potsdamer Straße 42:geo:13.0336991,52.3189246
END:VEVENT
BEGIN:VEVENT
DTSTART;TZID=Europe/Berlin:20260516T193000
DTEND;TZID=Europe/Berlin:20260516T211500
DTSTAMP:20260419T231355
CREATED:20260410T070403Z
LAST-MODIFIED:20260410T070448Z
UID:10000161-1778959800-1778966100@xn--volksbhnemichendorf-bbc.de
SUMMARY:Die Tür nebenan
DESCRIPTION:Sie ist Psychologin\, die eigentlich selbst Unterstützung bräuchte. Er verkauft Joghurt und dröhnt sich gerne mit klassischer Musik zu. \nSie wohnen auf demselben Stockwerk – und hassen sich inbrünstig. \nJede flüchtige Begegnung artet in eine beherzte Diskussion voller Anschuldigungen und Unterstellungen aus\, bei der auch schon mal die Türen knallen. Doch wie all die anderen einsamen Seelen der Stadt machen sich auch diese beiden heimlich im Internet auf die Suche nach der Liebe. Sie oder er sollte auf jeden Fall das Gegenteil von diesem bekloppten Nachbarn sein\, so viel ist sicher!
URL:https://xn--volksbhnemichendorf-bbc.de/event/die-tuer-nebenan/2026-05-16/
LOCATION:Volksbühne Michendorf\, Potsdamer Straße 42\, Michendorf\, 14552\, Deutschland
CATEGORIES:Abendvorstellungen
ATTACH;FMTTYPE=image/jpeg:https://xn--volksbhnemichendorf-bbc.de/wp-content/uploads/2025/10/Facebook_Tuer-nebenan-scaled.jpg
ORGANIZER;CN="Volksb%C3%BChne Michendorf":MAILTO:direktion@volksbuehnemichendorf.de
GEO:52.3189246;13.0336991
X-APPLE-STRUCTURED-LOCATION;VALUE=URI;X-ADDRESS=Volksbühne Michendorf Potsdamer Straße 42 Michendorf 14552 Deutschland;X-APPLE-RADIUS=500;X-TITLE=Potsdamer Straße 42:geo:13.0336991,52.3189246
END:VEVENT
BEGIN:VEVENT
DTSTART;TZID=Europe/Berlin:20260517T170000
DTEND;TZID=Europe/Berlin:20260517T184500
DTSTAMP:20260419T231355
CREATED:20260410T070403Z
LAST-MODIFIED:20260410T070448Z
UID:10000162-1779037200-1779043500@xn--volksbhnemichendorf-bbc.de
SUMMARY:Die Tür nebenan
DESCRIPTION:Sie ist Psychologin\, die eigentlich selbst Unterstützung bräuchte. Er verkauft Joghurt und dröhnt sich gerne mit klassischer Musik zu. \nSie wohnen auf demselben Stockwerk – und hassen sich inbrünstig. \nJede flüchtige Begegnung artet in eine beherzte Diskussion voller Anschuldigungen und Unterstellungen aus\, bei der auch schon mal die Türen knallen. Doch wie all die anderen einsamen Seelen der Stadt machen sich auch diese beiden heimlich im Internet auf die Suche nach der Liebe. Sie oder er sollte auf jeden Fall das Gegenteil von diesem bekloppten Nachbarn sein\, so viel ist sicher!
URL:https://xn--volksbhnemichendorf-bbc.de/event/die-tuer-nebenan/2026-05-17/
LOCATION:Volksbühne Michendorf\, Potsdamer Straße 42\, Michendorf\, 14552\, Deutschland
CATEGORIES:Abendvorstellungen
ATTACH;FMTTYPE=image/jpeg:https://xn--volksbhnemichendorf-bbc.de/wp-content/uploads/2025/10/Facebook_Tuer-nebenan-scaled.jpg
ORGANIZER;CN="Volksb%C3%BChne Michendorf":MAILTO:direktion@volksbuehnemichendorf.de
GEO:52.3189246;13.0336991
X-APPLE-STRUCTURED-LOCATION;VALUE=URI;X-ADDRESS=Volksbühne Michendorf Potsdamer Straße 42 Michendorf 14552 Deutschland;X-APPLE-RADIUS=500;X-TITLE=Potsdamer Straße 42:geo:13.0336991,52.3189246
END:VEVENT
BEGIN:VEVENT
DTSTART;TZID=Europe/Berlin:20260522T193000
DTEND;TZID=Europe/Berlin:20260522T211500
DTSTAMP:20260419T231355
CREATED:20260410T070403Z
LAST-MODIFIED:20260410T070448Z
UID:10000163-1779478200-1779484500@xn--volksbhnemichendorf-bbc.de
SUMMARY:Die Tür nebenan
DESCRIPTION:Sie ist Psychologin\, die eigentlich selbst Unterstützung bräuchte. Er verkauft Joghurt und dröhnt sich gerne mit klassischer Musik zu. \nSie wohnen auf demselben Stockwerk – und hassen sich inbrünstig. \nJede flüchtige Begegnung artet in eine beherzte Diskussion voller Anschuldigungen und Unterstellungen aus\, bei der auch schon mal die Türen knallen. Doch wie all die anderen einsamen Seelen der Stadt machen sich auch diese beiden heimlich im Internet auf die Suche nach der Liebe. Sie oder er sollte auf jeden Fall das Gegenteil von diesem bekloppten Nachbarn sein\, so viel ist sicher!
URL:https://xn--volksbhnemichendorf-bbc.de/event/die-tuer-nebenan/2026-05-22/
LOCATION:Volksbühne Michendorf\, Potsdamer Straße 42\, Michendorf\, 14552\, Deutschland
CATEGORIES:Abendvorstellungen
ATTACH;FMTTYPE=image/jpeg:https://xn--volksbhnemichendorf-bbc.de/wp-content/uploads/2025/10/Facebook_Tuer-nebenan-scaled.jpg
ORGANIZER;CN="Volksb%C3%BChne Michendorf":MAILTO:direktion@volksbuehnemichendorf.de
GEO:52.3189246;13.0336991
X-APPLE-STRUCTURED-LOCATION;VALUE=URI;X-ADDRESS=Volksbühne Michendorf Potsdamer Straße 42 Michendorf 14552 Deutschland;X-APPLE-RADIUS=500;X-TITLE=Potsdamer Straße 42:geo:13.0336991,52.3189246
END:VEVENT
BEGIN:VEVENT
DTSTART;TZID=Europe/Berlin:20260523T193000
DTEND;TZID=Europe/Berlin:20260523T211500
DTSTAMP:20260419T231355
CREATED:20260410T070403Z
LAST-MODIFIED:20260410T070448Z
UID:10000164-1779564600-1779570900@xn--volksbhnemichendorf-bbc.de
SUMMARY:Die Tür nebenan
DESCRIPTION:Sie ist Psychologin\, die eigentlich selbst Unterstützung bräuchte. Er verkauft Joghurt und dröhnt sich gerne mit klassischer Musik zu. \nSie wohnen auf demselben Stockwerk – und hassen sich inbrünstig. \nJede flüchtige Begegnung artet in eine beherzte Diskussion voller Anschuldigungen und Unterstellungen aus\, bei der auch schon mal die Türen knallen. Doch wie all die anderen einsamen Seelen der Stadt machen sich auch diese beiden heimlich im Internet auf die Suche nach der Liebe. Sie oder er sollte auf jeden Fall das Gegenteil von diesem bekloppten Nachbarn sein\, so viel ist sicher!
URL:https://xn--volksbhnemichendorf-bbc.de/event/die-tuer-nebenan/2026-05-23/
LOCATION:Volksbühne Michendorf\, Potsdamer Straße 42\, Michendorf\, 14552\, Deutschland
CATEGORIES:Abendvorstellungen
ATTACH;FMTTYPE=image/jpeg:https://xn--volksbhnemichendorf-bbc.de/wp-content/uploads/2025/10/Facebook_Tuer-nebenan-scaled.jpg
ORGANIZER;CN="Volksb%C3%BChne Michendorf":MAILTO:direktion@volksbuehnemichendorf.de
GEO:52.3189246;13.0336991
X-APPLE-STRUCTURED-LOCATION;VALUE=URI;X-ADDRESS=Volksbühne Michendorf Potsdamer Straße 42 Michendorf 14552 Deutschland;X-APPLE-RADIUS=500;X-TITLE=Potsdamer Straße 42:geo:13.0336991,52.3189246
END:VEVENT
BEGIN:VEVENT
DTSTART;TZID=Europe/Berlin:20260524T170000
DTEND;TZID=Europe/Berlin:20260524T184500
DTSTAMP:20260419T231355
CREATED:20260410T070403Z
LAST-MODIFIED:20260410T070448Z
UID:10000165-1779642000-1779648300@xn--volksbhnemichendorf-bbc.de
SUMMARY:Die Tür nebenan
DESCRIPTION:Sie ist Psychologin\, die eigentlich selbst Unterstützung bräuchte. Er verkauft Joghurt und dröhnt sich gerne mit klassischer Musik zu. \nSie wohnen auf demselben Stockwerk – und hassen sich inbrünstig. \nJede flüchtige Begegnung artet in eine beherzte Diskussion voller Anschuldigungen und Unterstellungen aus\, bei der auch schon mal die Türen knallen. Doch wie all die anderen einsamen Seelen der Stadt machen sich auch diese beiden heimlich im Internet auf die Suche nach der Liebe. Sie oder er sollte auf jeden Fall das Gegenteil von diesem bekloppten Nachbarn sein\, so viel ist sicher!
URL:https://xn--volksbhnemichendorf-bbc.de/event/die-tuer-nebenan/2026-05-24/
LOCATION:Volksbühne Michendorf\, Potsdamer Straße 42\, Michendorf\, 14552\, Deutschland
CATEGORIES:Abendvorstellungen
ATTACH;FMTTYPE=image/jpeg:https://xn--volksbhnemichendorf-bbc.de/wp-content/uploads/2025/10/Facebook_Tuer-nebenan-scaled.jpg
ORGANIZER;CN="Volksb%C3%BChne Michendorf":MAILTO:direktion@volksbuehnemichendorf.de
GEO:52.3189246;13.0336991
X-APPLE-STRUCTURED-LOCATION;VALUE=URI;X-ADDRESS=Volksbühne Michendorf Potsdamer Straße 42 Michendorf 14552 Deutschland;X-APPLE-RADIUS=500;X-TITLE=Potsdamer Straße 42:geo:13.0336991,52.3189246
END:VEVENT
BEGIN:VEVENT
DTSTART;TZID=Europe/Berlin:20260529T193000
DTEND;TZID=Europe/Berlin:20260529T211500
DTSTAMP:20260419T231355
CREATED:20260410T070403Z
LAST-MODIFIED:20260410T070448Z
UID:10000166-1780083000-1780089300@xn--volksbhnemichendorf-bbc.de
SUMMARY:Die Tür nebenan
DESCRIPTION:Sie ist Psychologin\, die eigentlich selbst Unterstützung bräuchte. Er verkauft Joghurt und dröhnt sich gerne mit klassischer Musik zu. \nSie wohnen auf demselben Stockwerk – und hassen sich inbrünstig. \nJede flüchtige Begegnung artet in eine beherzte Diskussion voller Anschuldigungen und Unterstellungen aus\, bei der auch schon mal die Türen knallen. Doch wie all die anderen einsamen Seelen der Stadt machen sich auch diese beiden heimlich im Internet auf die Suche nach der Liebe. Sie oder er sollte auf jeden Fall das Gegenteil von diesem bekloppten Nachbarn sein\, so viel ist sicher!
URL:https://xn--volksbhnemichendorf-bbc.de/event/die-tuer-nebenan/2026-05-29/
LOCATION:Volksbühne Michendorf\, Potsdamer Straße 42\, Michendorf\, 14552\, Deutschland
CATEGORIES:Abendvorstellungen
ATTACH;FMTTYPE=image/jpeg:https://xn--volksbhnemichendorf-bbc.de/wp-content/uploads/2025/10/Facebook_Tuer-nebenan-scaled.jpg
ORGANIZER;CN="Volksb%C3%BChne Michendorf":MAILTO:direktion@volksbuehnemichendorf.de
GEO:52.3189246;13.0336991
X-APPLE-STRUCTURED-LOCATION;VALUE=URI;X-ADDRESS=Volksbühne Michendorf Potsdamer Straße 42 Michendorf 14552 Deutschland;X-APPLE-RADIUS=500;X-TITLE=Potsdamer Straße 42:geo:13.0336991,52.3189246
END:VEVENT
BEGIN:VEVENT
DTSTART;TZID=Europe/Berlin:20260530T193000
DTEND;TZID=Europe/Berlin:20260530T211500
DTSTAMP:20260419T231355
CREATED:20260410T070403Z
LAST-MODIFIED:20260410T070448Z
UID:10000167-1780169400-1780175700@xn--volksbhnemichendorf-bbc.de
SUMMARY:Die Tür nebenan
DESCRIPTION:Sie ist Psychologin\, die eigentlich selbst Unterstützung bräuchte. Er verkauft Joghurt und dröhnt sich gerne mit klassischer Musik zu. \nSie wohnen auf demselben Stockwerk – und hassen sich inbrünstig. \nJede flüchtige Begegnung artet in eine beherzte Diskussion voller Anschuldigungen und Unterstellungen aus\, bei der auch schon mal die Türen knallen. Doch wie all die anderen einsamen Seelen der Stadt machen sich auch diese beiden heimlich im Internet auf die Suche nach der Liebe. Sie oder er sollte auf jeden Fall das Gegenteil von diesem bekloppten Nachbarn sein\, so viel ist sicher!
URL:https://xn--volksbhnemichendorf-bbc.de/event/die-tuer-nebenan/2026-05-30/
LOCATION:Volksbühne Michendorf\, Potsdamer Straße 42\, Michendorf\, 14552\, Deutschland
CATEGORIES:Abendvorstellungen
ATTACH;FMTTYPE=image/jpeg:https://xn--volksbhnemichendorf-bbc.de/wp-content/uploads/2025/10/Facebook_Tuer-nebenan-scaled.jpg
ORGANIZER;CN="Volksb%C3%BChne Michendorf":MAILTO:direktion@volksbuehnemichendorf.de
GEO:52.3189246;13.0336991
X-APPLE-STRUCTURED-LOCATION;VALUE=URI;X-ADDRESS=Volksbühne Michendorf Potsdamer Straße 42 Michendorf 14552 Deutschland;X-APPLE-RADIUS=500;X-TITLE=Potsdamer Straße 42:geo:13.0336991,52.3189246
END:VEVENT
BEGIN:VEVENT
DTSTART;TZID=Europe/Berlin:20260531T170000
DTEND;TZID=Europe/Berlin:20260531T184500
DTSTAMP:20260419T231355
CREATED:20260410T070403Z
LAST-MODIFIED:20260410T070448Z
UID:10000168-1780246800-1780253100@xn--volksbhnemichendorf-bbc.de
SUMMARY:Die Tür nebenan
DESCRIPTION:Sie ist Psychologin\, die eigentlich selbst Unterstützung bräuchte. Er verkauft Joghurt und dröhnt sich gerne mit klassischer Musik zu. \nSie wohnen auf demselben Stockwerk – und hassen sich inbrünstig. \nJede flüchtige Begegnung artet in eine beherzte Diskussion voller Anschuldigungen und Unterstellungen aus\, bei der auch schon mal die Türen knallen. Doch wie all die anderen einsamen Seelen der Stadt machen sich auch diese beiden heimlich im Internet auf die Suche nach der Liebe. Sie oder er sollte auf jeden Fall das Gegenteil von diesem bekloppten Nachbarn sein\, so viel ist sicher!
URL:https://xn--volksbhnemichendorf-bbc.de/event/die-tuer-nebenan/2026-05-31/
LOCATION:Volksbühne Michendorf\, Potsdamer Straße 42\, Michendorf\, 14552\, Deutschland
CATEGORIES:Abendvorstellungen
ATTACH;FMTTYPE=image/jpeg:https://xn--volksbhnemichendorf-bbc.de/wp-content/uploads/2025/10/Facebook_Tuer-nebenan-scaled.jpg
ORGANIZER;CN="Volksb%C3%BChne Michendorf":MAILTO:direktion@volksbuehnemichendorf.de
GEO:52.3189246;13.0336991
X-APPLE-STRUCTURED-LOCATION;VALUE=URI;X-ADDRESS=Volksbühne Michendorf Potsdamer Straße 42 Michendorf 14552 Deutschland;X-APPLE-RADIUS=500;X-TITLE=Potsdamer Straße 42:geo:13.0336991,52.3189246
END:VEVENT
BEGIN:VEVENT
DTSTART;TZID=Europe/Berlin:20260605T193000
DTEND;TZID=Europe/Berlin:20260605T211500
DTSTAMP:20260419T231355
CREATED:20260410T070403Z
LAST-MODIFIED:20260410T070448Z
UID:10000169-1780687800-1780694100@xn--volksbhnemichendorf-bbc.de
SUMMARY:Die Tür nebenan
DESCRIPTION:Sie ist Psychologin\, die eigentlich selbst Unterstützung bräuchte. Er verkauft Joghurt und dröhnt sich gerne mit klassischer Musik zu. \nSie wohnen auf demselben Stockwerk – und hassen sich inbrünstig. \nJede flüchtige Begegnung artet in eine beherzte Diskussion voller Anschuldigungen und Unterstellungen aus\, bei der auch schon mal die Türen knallen. Doch wie all die anderen einsamen Seelen der Stadt machen sich auch diese beiden heimlich im Internet auf die Suche nach der Liebe. Sie oder er sollte auf jeden Fall das Gegenteil von diesem bekloppten Nachbarn sein\, so viel ist sicher!
URL:https://xn--volksbhnemichendorf-bbc.de/event/die-tuer-nebenan/2026-06-05/
LOCATION:Volksbühne Michendorf\, Potsdamer Straße 42\, Michendorf\, 14552\, Deutschland
CATEGORIES:Abendvorstellungen
ATTACH;FMTTYPE=image/jpeg:https://xn--volksbhnemichendorf-bbc.de/wp-content/uploads/2025/10/Facebook_Tuer-nebenan-scaled.jpg
ORGANIZER;CN="Volksb%C3%BChne Michendorf":MAILTO:direktion@volksbuehnemichendorf.de
GEO:52.3189246;13.0336991
X-APPLE-STRUCTURED-LOCATION;VALUE=URI;X-ADDRESS=Volksbühne Michendorf Potsdamer Straße 42 Michendorf 14552 Deutschland;X-APPLE-RADIUS=500;X-TITLE=Potsdamer Straße 42:geo:13.0336991,52.3189246
END:VEVENT
BEGIN:VEVENT
DTSTART;TZID=Europe/Berlin:20260606T193000
DTEND;TZID=Europe/Berlin:20260606T211500
DTSTAMP:20260419T231355
CREATED:20260410T070403Z
LAST-MODIFIED:20260410T070448Z
UID:10000170-1780774200-1780780500@xn--volksbhnemichendorf-bbc.de
SUMMARY:Die Tür nebenan
DESCRIPTION:Sie ist Psychologin\, die eigentlich selbst Unterstützung bräuchte. Er verkauft Joghurt und dröhnt sich gerne mit klassischer Musik zu. \nSie wohnen auf demselben Stockwerk – und hassen sich inbrünstig. \nJede flüchtige Begegnung artet in eine beherzte Diskussion voller Anschuldigungen und Unterstellungen aus\, bei der auch schon mal die Türen knallen. Doch wie all die anderen einsamen Seelen der Stadt machen sich auch diese beiden heimlich im Internet auf die Suche nach der Liebe. Sie oder er sollte auf jeden Fall das Gegenteil von diesem bekloppten Nachbarn sein\, so viel ist sicher!
URL:https://xn--volksbhnemichendorf-bbc.de/event/die-tuer-nebenan/2026-06-06/
LOCATION:Volksbühne Michendorf\, Potsdamer Straße 42\, Michendorf\, 14552\, Deutschland
CATEGORIES:Abendvorstellungen
ATTACH;FMTTYPE=image/jpeg:https://xn--volksbhnemichendorf-bbc.de/wp-content/uploads/2025/10/Facebook_Tuer-nebenan-scaled.jpg
ORGANIZER;CN="Volksb%C3%BChne Michendorf":MAILTO:direktion@volksbuehnemichendorf.de
GEO:52.3189246;13.0336991
X-APPLE-STRUCTURED-LOCATION;VALUE=URI;X-ADDRESS=Volksbühne Michendorf Potsdamer Straße 42 Michendorf 14552 Deutschland;X-APPLE-RADIUS=500;X-TITLE=Potsdamer Straße 42:geo:13.0336991,52.3189246
END:VEVENT
BEGIN:VEVENT
DTSTART;TZID=Europe/Berlin:20260607T170000
DTEND;TZID=Europe/Berlin:20260607T184500
DTSTAMP:20260419T231355
CREATED:20260410T070403Z
LAST-MODIFIED:20260410T070448Z
UID:10000171-1780851600-1780857900@xn--volksbhnemichendorf-bbc.de
SUMMARY:Die Tür nebenan
DESCRIPTION:Sie ist Psychologin\, die eigentlich selbst Unterstützung bräuchte. Er verkauft Joghurt und dröhnt sich gerne mit klassischer Musik zu. \nSie wohnen auf demselben Stockwerk – und hassen sich inbrünstig. \nJede flüchtige Begegnung artet in eine beherzte Diskussion voller Anschuldigungen und Unterstellungen aus\, bei der auch schon mal die Türen knallen. Doch wie all die anderen einsamen Seelen der Stadt machen sich auch diese beiden heimlich im Internet auf die Suche nach der Liebe. Sie oder er sollte auf jeden Fall das Gegenteil von diesem bekloppten Nachbarn sein\, so viel ist sicher!
URL:https://xn--volksbhnemichendorf-bbc.de/event/die-tuer-nebenan/2026-06-07/
LOCATION:Volksbühne Michendorf\, Potsdamer Straße 42\, Michendorf\, 14552\, Deutschland
CATEGORIES:Abendvorstellungen
ATTACH;FMTTYPE=image/jpeg:https://xn--volksbhnemichendorf-bbc.de/wp-content/uploads/2025/10/Facebook_Tuer-nebenan-scaled.jpg
ORGANIZER;CN="Volksb%C3%BChne Michendorf":MAILTO:direktion@volksbuehnemichendorf.de
GEO:52.3189246;13.0336991
X-APPLE-STRUCTURED-LOCATION;VALUE=URI;X-ADDRESS=Volksbühne Michendorf Potsdamer Straße 42 Michendorf 14552 Deutschland;X-APPLE-RADIUS=500;X-TITLE=Potsdamer Straße 42:geo:13.0336991,52.3189246
END:VEVENT
END:VCALENDAR